BEGIN:VCALENDAR
VERSION:2.0
PRODID:-//Filarmonica Banatul Timișoara - ECPv6.5.0//NONSGML v1.0//EN
CALSCALE:GREGORIAN
METHOD:PUBLISH
X-ORIGINAL-URL:https://dev.filarmonicabanatul.ro
X-WR-CALDESC:Events for Filarmonica Banatul Timișoara
REFRESH-INTERVAL;VALUE=DURATION:PT1H
X-Robots-Tag:noindex
X-PUBLISHED-TTL:PT1H
BEGIN:VTIMEZONE
TZID:Europe/Bucharest
BEGIN:DAYLIGHT
TZOFFSETFROM:+0200
TZOFFSETTO:+0300
TZNAME:EEST
DTSTART:20240331T010000
END:DAYLIGHT
BEGIN:STANDARD
TZOFFSETFROM:+0300
TZOFFSETTO:+0200
TZNAME:EET
DTSTART:20241027T010000
END:STANDARD
END:VTIMEZONE
BEGIN:VEVENT
DTSTART;TZID=Europe/Bucharest:20240405T190000
DTEND;TZID=Europe/Bucharest:20240405T200000
DTSTAMP:20260422T180817
CREATED:20240403T070129Z
LAST-MODIFIED:20240403T082028Z
UID:4554-1712343600-1712347200@dev.filarmonicabanatul.ro
SUMMARY:riTM în Banat - Recital cameral Ansamblul Percutissimo | Solist și coordonator: DORU ROMAN
DESCRIPTION:Filarmonica Banatul Timișoara deschide seria evenimentelor reunite sub denumirea riTM în Banat\, organizate ca un preambul al Festivalului Timișoara Muzicală\, cu un recital cameral susținut de Ansamblul Percutissimo al Facultății de Muzică și Teatru Timișoara. \nEvenimentul inaugural va avea loc pe 5 aprilie și va fi găzduit în Sala Teatrului „Traian Grozăvescu” din Lugoj\, de la ora 19:00. Din program: Music of the pieces of wood – R. Reich\, Mambo Africano – A. Gomez\, Zulu Welcome – S. Fink și Cântec Sârbesc – N. Zivkovici. \nCoordonat de profesorul Doru Roman\, Ansamblul Percutissimo s-a bucurat\, încă de la înființarea în 2001\, de un real succes pe scenă atât în țară\, cât și în străinătate\, primind aprecieri din partea publicului și specialiștilor percuționiști. \n_____ \nEN \nThe Banatul Philharmonic Timișoara starts the series of events brought together under the name riTM in Banat\, organized as a preamble to “Timișoara Muzicală” Festival\, with a chamber recital by the Percutissimo Ensemble of the Faculty of Music and Theater Timișoara. The opening event will take place on April 5\, from 7:00 pm and will be hosted in the „Traian Grozăvescu” Theater Hall in Lugoj. From the program: Music of wooden pieces – R. Reich\, Mambo Africano – A. Gomez\, Zulu Welcome – S. Fink and Serbian Song – N. Zivkovici. \nCoordinated by professor Doru Roman\, the Percutissimo Ensemble has enjoyed\, since its establishment in 2001\, real success on stage both in the country and abroad\, receiving appreciation from the public and percussion specialists. \n 
URL:https://dev.filarmonicabanatul.ro/evenimente/ritm-in-banat-recital-cameral-ansamblul-percutissimo-solist-si-coordonator-doru-roman/
LOCATION:Teatrul „Traian Grozăvescu”\, Splaiul Coriolan Brediceanu Nr. 5\, Lugoj\, Timiș
ATTACH;FMTTYPE=image/png:https://dev.filarmonicabanatul.ro/wp-content/uploads/2024/04/05-apr-ENTERTIX-1200-X-628_riTM-in-Banat.png
ORGANIZER;CN="Filarmonica Banatul Timi%C8%99oara":MAILTO:office@filarmonicabanatul.ro
END:VEVENT
END:VCALENDAR