BEGIN:VCALENDAR
VERSION:2.0
PRODID:-//Filarmonica Banatul Timișoara - ECPv6.5.0//NONSGML v1.0//EN
CALSCALE:GREGORIAN
METHOD:PUBLISH
X-ORIGINAL-URL:https://dev.filarmonicabanatul.ro
X-WR-CALDESC:Events for Filarmonica Banatul Timișoara
REFRESH-INTERVAL;VALUE=DURATION:PT1H
X-Robots-Tag:noindex
X-PUBLISHED-TTL:PT1H
BEGIN:VTIMEZONE
TZID:Europe/Bucharest
BEGIN:DAYLIGHT
TZOFFSETFROM:+0200
TZOFFSETTO:+0300
TZNAME:EEST
DTSTART:20230326T010000
END:DAYLIGHT
BEGIN:STANDARD
TZOFFSETFROM:+0300
TZOFFSETTO:+0200
TZNAME:EET
DTSTART:20231029T010000
END:STANDARD
END:VTIMEZONE
BEGIN:VEVENT
DTSTART;TZID=Europe/Bucharest:20230929T190000
DTEND;TZID=Europe/Bucharest:20230929T210000
DTSTAMP:20260419T211604
CREATED:20230913T105133Z
LAST-MODIFIED:20230915T070011Z
UID:3955-1696014000-1696021200@dev.filarmonicabanatul.ro
SUMMARY:Deschiderea Stagiunii 2023-2024 | A. Schönberg - GURRE-LIEDER | Dirijor: GABRIEL BEBEȘELEA
DESCRIPTION:Dragoste\, crimă din gelozie\, rebeliune împotriva sorții\, reconciliere cu semenii și cu natura. Sunt motivele pe care Arnold Schönberg le împletește în lucrarea cu cea mai mare orchestrație a literaturii orchestrale: 𝐆𝐮𝐫𝐫𝐞-𝐋𝐢𝐞𝐝𝐞𝐫.\n\n\n\nPovestea fascinantă de dragoste dintre regele Waldemar şi iubita lui\, Tove\, ucisă de geloasa regină Helvig vom avea privilegiul să o ascultăm și în 𝟮𝟵 𝘀𝗲𝗽𝘁𝗲𝗺𝗯𝗿𝗶𝗲 𝟮𝟬𝟮𝟯\, de la ora 𝟏𝟗:𝟎𝟎\, în 𝑷𝒂𝒓𝒄𝒖𝒍 𝑹𝒐𝒛𝒆𝒍𝒐𝒓\, în cadrul concertelor vocal-simfonice extraordinare ce deschid 𝑺𝒕𝒂𝒈𝒊𝒖𝒏𝒆𝒂 2023-2024.\n\n\nDin cel mai amplu proiect din istoria Filarmonicii 𝘉𝘢𝘯𝘢𝘵𝘶𝘭 Timișoara fac parte peste 𝟒𝟎𝟎 de instrumentiști și artiști lirici din Germania și România.\n\n\n\nGurre-Lieder – Cantata pentru soliști\, narator\, cor și orchestră mare va fi interpretată de:\nOrchestra simfonică și Corul „Ion Românu” ale Filarmonicii 𝘉𝘢𝘯𝘢𝘵𝘶𝘭 Timișoara\nOrchestra simfonică și Corul Teatrului Altenburg Gera\nCorul Operei Naționale Române Timișoara\nCorul pe voci egale al Liceului de Artă „Ion Vidu” Timișoara\nCorul de copii al Colegiului de Muzică Rutheneum Gera\n\n\n\nDirijor: GABRIEL BEBEȘELEA \n\n\nDirijori asistenți: CRISTIAN SPĂTARU\nDOMINIK TOMAS KOZŁOWSKI\nANA SPASOVSKA\n\nDirijori coruri: IOSIF TODEALAURA MARE\nALEXANDROS DIAMANTIS\nCHRISTIAN K. FRANK\nMARIA GYURIS\n\nSoliști: MICHAELA KAUNE (Tove)\nRUXANDRA DONOSE (Waldtaube)\nROY CORNELIUS SMITH (Waldemar)\nCOSMIN IFRIM (Klaus Narr)\nBOGDAN BACIU (Bauer)\nJOHANNES SCHWÄRSKY (Narator)\n\n\nINTRAREA ESTE LIBERĂ!\n\n\n\nOrganizator: Filarmonica 𝘉𝘢𝘯𝘢𝘵𝘶𝘭 Timișoara\nParteneri: Theater Altenburg Gera\, Opera Națională Română din Timișoara\, Corul pe voci egale al Liceului de Artă „Ion Vidu” Timișoara\, Corul de copii al Colegiului de Muzică Rutheneum Gera\nProiectul face parte din Programul cultural Timișoara 2023 – Capitală Europeană a Culturii
URL:https://dev.filarmonicabanatul.ro/evenimente/deschiderea-stagiunii-2023-2024-a-schonberg-gurre-lieder-dirijor-gabriel-bebeselea/
LOCATION:Parcul Rozelor\, BD. C. D. LOGA\, Timișoara\, Timiș\, România
ATTACH;FMTTYPE=image/png:https://dev.filarmonicabanatul.ro/wp-content/uploads/2023/09/Gurre-Lieder-entertix-1200x6282-1.png
ORGANIZER;CN="Filarmonica Banatul Timi%C8%99oara":MAILTO:office@filarmonicabanatul.ro
END:VEVENT
BEGIN:VEVENT
DTSTART;TZID=Europe/Bucharest:20230928T190000
DTEND;TZID=Europe/Bucharest:20230928T210000
DTSTAMP:20260419T211604
CREATED:20230911T081040Z
LAST-MODIFIED:20231009T105521Z
UID:3943-1695927600-1695934800@dev.filarmonicabanatul.ro
SUMMARY:Deschiderea Stagiunii 2023-2024 | A. SCHÖNBERG - GURRE-LIEDER | Dirijor: GABRIEL BEBEȘELEA
DESCRIPTION:Dragoste\, crimă din gelozie\, rebeliune împotriva sorții\, reconciliere cu semenii și cu natura. Sunt motivele pe care Arnold Schönberg le împletește în lucrarea cu cea mai mare orchestrație a literaturii orchestrale: 𝐆𝐮𝐫𝐫𝐞-𝐋𝐢𝐞𝐝𝐞𝐫.\n\n\n\nPovestea fascinantă de dragoste dintre regele Waldemar şi iubita lui\, Tove\, ucisă de geloasa regină Helvig vom avea privilegiul să o ascultăm în 𝟮𝟴 și 𝟮𝟵 𝘀𝗲𝗽𝘁𝗲𝗺𝗯𝗿𝗶𝗲 𝟮𝟬𝟮𝟯\, de la ora 𝟏𝟗:𝟎𝟎\, în 𝑷𝒂𝒓𝒄𝒖𝒍 𝑹𝒐𝒛𝒆𝒍𝒐𝒓\, în cadrul concertelor vocal-simfonice extraordinare ce deschid 𝑺𝒕𝒂𝒈𝒊𝒖𝒏𝒆𝒂 2023-2024.\n\n\nDin cel mai amplu proiect din istoria Filarmonicii 𝘉𝘢𝘯𝘢𝘵𝘶𝘭 Timișoara fac parte peste 𝟒𝟎𝟎 de instrumentiști și artiști lirici din Germania și România.\n\n\n\nGurre-Lieder – Cantata pentru soliști\, narator\, cor și orchestră mare va fi interpretată de:\nOrchestra simfonică și Corul „Ion Românu” ale Filarmonicii 𝘉𝘢𝘯𝘢𝘵𝘶𝘭 Timișoara\nOrchestra simfonică și Corul Teatrului Altenburg Gera\nCorul Operei Naționale Române Timișoara\nCorul pe voci egale al Liceului de Artă „Ion Vidu” Timișoara\nCorul de copii al Colegiului de Muzică Rutheneum Gera\n\n\n\nDirijor: GABRIEL BEBEȘELEA \n\n\nDirijori asistenți: CRISTIAN SPĂTARU\nDOMINIK TOMAS KOZŁOWSKI\nANA SPASOVSKA\n\nDirijori coruri: IOSIF TODEALAURA MARE\nALEXANDROS DIAMANTIS\nCHRISTIAN K. FRANK\nMARIA GYURIS\n\nSoliști: MICHAELA KAUNE (Tove)\nRUXANDRA DONOSE (Waldtaube)\nROY CORNELIUS SMITH (Waldemar)\nCOSMIN IFRIM (Klaus Narr)\nBOGDAN BACIU (Bauer)\nJOHANNES SCHWÄRSKY (Narator)\n\n\nINTRAREA ESTE LIBERĂ!\n\n\n\nOrganizator: Filarmonica 𝘉𝘢𝘯𝘢𝘵𝘶𝘭 Timișoara\nParteneri: Theater Altenburg Gera\, Opera Națională Română din Timișoara\, Corul pe voci egale al Liceului de Artă „Ion Vidu” Timișoara\, Corul de copii al Colegiului de Muzică Rutheneum Gera\nProiectul face parte din Programul cultural Timișoara 2023 – Capitală Europeană a Culturii\n\n\nÎn continuare\, avancronica de concert semnată de maestrul Mircea Tătaru:\n\n„Începe stagiunea 2023-2024 a Filarmonicii „Banatul”. Se va realiza un mare proiect\, o colaborare excepţională între artiştii din Timişoara şi artiştii din Gera\, Germania. Vom avea parte de un concert vocal-simfonic extraordinar condus de maestrul Gabriel Bebeşelea. Pentru prima oară în oraşul nostru\, de această dată în Parcul Rozelor\, vom putea asculta Cantata pentru solişti\, narator\, cor şi orchestră de Arnold Schönberg. Concertul inaugural se va repeta vineri 29 septembrie.Încă de la mijlocul secolului XIX ansamblul ştiinţelor şi artelor a cunoscut profunde transformări. Ele s-au dovedit atât de radicale încât a fost nevoie de câţiva ani până ce implicaţiile impactului să-şi facă efectul. În muzică efectul transformărilor ar fi fost minor dacă nu ar fi apărul cei trei mari — Schönberg\, Berg şi Webern. Ei au ridicat enorm nivelul de abstracţie şi de cuprindere al gândirii muzicale. Arnold Schönberg s-a născut la 13 septembrie 1874 la Viena\, ca fiu al unui comerciant evreu\, Samuel Schönberg. La opt ani a rămas orfan de tată şi cum mama dădea lecţii de pian pentru a-şi câştiga existenţa\, începe şi Arnold să înveţe singur vioara şi violoncelul şi să compună pentru aceste două instrumente. Din cauza dificultăţilor materiale întrerupe studiile liceale şi devine dirijor la ansambluri corale obscure. Mai apoi primeşte lecţii de contrapunct de la Alexander von Zemlinsky\, cu a cărui soră se va căsători mai târziu. Trebuie menţionat aici că a fost toată viaţa un autodidact\, şi încă unul de excepţie. Deşi cu o cultură filozofică\, literară şi artistică lacunară\, s-a impus în istoria muzicii secolului XX ca una dintre cele mai novatoare şi în acelaşi timp controversate personalităţi ale artei muzicale. Egomania lui se apropia de cea a lui Wagner. Asta\, deşi afişa mereu atitudini de falsă modestie. \nHarold C. Schonberg îl descrie în cartea sa „Vieţile marilor compozitori” drept un om scund\, chel\, cu un chip de fanatic\, cu o faţă cu contururi aspre\, mesianic. Avea însă ochi mari\, strălucitori\, magnetici. El simţea că are o misiune de îndeplinit. Schönberg a făcut revoluţie şi anarhie în universul sonor prin inventarea unei noi ordini în lumea celor 12 sunete. El nega rolul tonalităţii\, a centrelor tonale pregnante\, afirmând ordinea serială. Mai simplu\, afirma democraţia în rândul sunetelor\, remarcând doar înşiruirea la liberul arbitru a celor 12 sunete compunând şi combinând seriile în mod speculativ. Pentru a nu-i speria pe iubitorii muzicii\, pe care-i invităm cu drag la deschiderea stagiunii\, spunem că lucrarea pe care o vom asculta\, nu se înscrie în noua concepţie\, ci este compusă cu aproximativ 8 ani înainte. El spunea că primele compoziţii cu acest nou stil le-a compus după anul 1908.  În anul 1933\, odată cu instaurarea nazismului în Germania\,  Schönberg emigrează în Statele Unite ale Americii părăsind pentru totdeauna Austria\, Germania\, de fapt Europa\, vechiul continent al culturii şi artei. \nA murit la 13 iulie 1951 în America\, tocmai când mesajul lui ajunsese să domine gândirea tuturor compozitorilor de avangardă din lume. \nLa vârsta de 26 ani Schönberg compune o cantată gigant\, Gurrelieder\, fară număr de opus. S-a inspirat dintr-un poem dramatic scris de danezul Jens Peter Jacobsen\, care era parte a unei nuvele cu numele de Flori de cactus. A scris-o având şi el doar 21 de ani. Era în 1868.  Este povestea a cinci prieteni care se adună pentru înflorirea\, tot la nouă ani\, a unui cactus rar. Ei aşteaptă cu înfrigurare apariţia florii\, în timpul nopţii\, pentru că este o floare de noapte\, timp în care ei recită poezii sau spun poveşti. Ultima poezie\, legendară\, Gurrelieder\, povesteşte despre pasiune\, gelozie\, moarte tragică\, condamnare\, căutarea nesfârşită a iubirii dincolo de moarte şi despre eventuala înviere a spiritului uman prin forţele vindecătoare ale naturii. \nEste vorba despre o legendă medievală care ne spune despre dragostea regelui Waldemar pentru frumoasa Tove Ei se întâlneau în castelul acestuia\, Gurre\, special construit pentru iubita sa. (Azi\, castelul aflat în ruină este total uitat în Danemarca). Regina Helvig încearcă să o asasineze pe Tove folosindu-se de amantul ei. Nu numai că reuşeşte\, dar îl omoară şi pe rege\, pe când se întorcea la castel. Legenda spune că multă vreme\, localnicii erau îngroziţi de goana fantastică a spiritelor celor doi\, care\, în veşnicia morţii se urmăreau şi se căutau fără încetare. Cantata cuprinde trei mari secţiuni. În prima\, după un amplu preludiu orchestral urmează solourile de dragoste\, alternativ\, ale celor doi îndrăgostiţi. Secţiunea se încheie tot cu un preludiu orchestral\, urmat de vocea porumbelului pădurii care prevesteşte sumbru moartea Tovei. În secţiunea a doua\, mai scurtă\, se aude cântecul trist al lui Waldemar\, şi el precedat de un preludiu de orchestră. În secţiunea finală este descrisă goana dezlănţuită a spiritelor morţilor\, în frunte fiind chiar cel al regelui\, spre găsirea spiritului iubitei sale. Urmează un fapt inedit în muzică\, aşa-numita vorbire intonată\, o modalitate interesantă de a trata vocea\, pe care o întâlnim şi în compoziţia Pierrot lunaire\, scrisă în 1912. Această parte din secţiunea a treia este intitulată Vânătoarea fantastică a vântului de vară. Lucrarea se încheie cu un cor apoteotic. Neavând spaţiu în avancronică pentru a prezenta toţi protagoniştii uriaşului concert\, care vor fi prezentaţi în caietul-program de sală\, spunem că pe lângă ansamblul Filarmonicii „Banatul” vor fi prezenţi pe scenă membrii Altenburg Theater din Gera (Germania)\, ai Operei Naţionale din Timişoara\, Corul pe voci egale al Liceului de Artă „Ion Vidu” din Timişoara şi al Colegiumului de Muzică Rutheneum Gera.”
URL:https://dev.filarmonicabanatul.ro/evenimente/3943/
LOCATION:Parcul Rozelor\, BD. C. D. LOGA\, Timișoara\, Timiș\, România
ATTACH;FMTTYPE=image/png:https://dev.filarmonicabanatul.ro/wp-content/uploads/2023/09/Gurre-Lieder-entertix-1200x6281-1.png
ORGANIZER;CN="Filarmonica Banatul Timi%C8%99oara":MAILTO:office@filarmonicabanatul.ro
END:VEVENT
END:VCALENDAR