BEGIN:VCALENDAR
VERSION:2.0
PRODID:-//Filarmonica Banatul Timișoara - ECPv6.5.0//NONSGML v1.0//EN
CALSCALE:GREGORIAN
METHOD:PUBLISH
X-WR-CALNAME:Filarmonica Banatul Timișoara
X-ORIGINAL-URL:https://dev.filarmonicabanatul.ro
X-WR-CALDESC:Events for Filarmonica Banatul Timișoara
REFRESH-INTERVAL;VALUE=DURATION:PT1H
X-Robots-Tag:noindex
X-PUBLISHED-TTL:PT1H
BEGIN:VTIMEZONE
TZID:Europe/Bucharest
BEGIN:DAYLIGHT
TZOFFSETFROM:+0200
TZOFFSETTO:+0300
TZNAME:EEST
DTSTART:20230326T010000
END:DAYLIGHT
BEGIN:STANDARD
TZOFFSETFROM:+0300
TZOFFSETTO:+0200
TZNAME:EET
DTSTART:20231029T010000
END:STANDARD
END:VTIMEZONE
BEGIN:VEVENT
DTSTART;TZID=Europe/Bucharest:20231007T110000
DTEND;TZID=Europe/Bucharest:20231007T120000
DTSTAMP:20260419T183017
CREATED:20231002T112304Z
LAST-MODIFIED:20231002T112304Z
UID:3994-1696676400-1696680000@dev.filarmonicabanatul.ro
SUMMARY:RECITAL EDUCATIV | Muzică din desene animate (2 - 7 ani)
DESCRIPTION:Parcul Copiilor se va umple de voie bună sâmbătă\, 7 octombrie\, de la ora 11:00\, atunci când va răsuna muzica din desene animate\, în cadrul recitalului educativ susținut de ANA DAVID – vioară\, BENIAMIN CHIRCĂ – violoncel\, BOGDAN PREDA – flaut\, EMŐKE FANCSALI – oboi\, și ANDREEA OLARIU – pian. Aranjamentele pe care le vom asculta sunt realizate de CRISTIAN SPĂTARU. Prezentatorul evenimentului va fi IONUȚ MARIAN PÎRVULESCU.\n\nPentru prima dată în Timișoara\, evenimentul se dorește a fi incluziv și invită în mod special persoane neurodiverse și cu diverse abilități. În acest sens organizatorii au pregătit mai multe facilități de accesibilitate (voluntari zâmbitori pentru orientare\, kituri senzoriale\, căști antifonice\, broșuri în limbaj ușor de înțeles\, elemente tactile\, etc.).\n\nEvenimentul are loc în cadrul City Celebration\, desfășurat în perioada 6-8 octombrie 2023\, parte din Programului cultural național „Timișoara – Capitală Europeană a Culturii în anul 2023”.
URL:https://dev.filarmonicabanatul.ro/evenimente/recital-educativ-muzica-din-desene-animate-2-7-ani-4/
LOCATION:Parcul Copiilor\, Bulevardul Constantin Diaconovici Loga 43\, Timișoara\, România
ATTACH;FMTTYPE=image/png:https://dev.filarmonicabanatul.ro/wp-content/uploads/2023/10/07-oct-ENTERTIX-1200-X-628.png
ORGANIZER;CN="Filarmonica Banatul Timi%C8%99oara":MAILTO:office@filarmonicabanatul.ro
END:VEVENT
END:VCALENDAR