BEGIN:VCALENDAR
VERSION:2.0
PRODID:-//Filarmonica Banatul Timișoara - ECPv6.5.0//NONSGML v1.0//EN
CALSCALE:GREGORIAN
METHOD:PUBLISH
X-ORIGINAL-URL:https://dev.filarmonicabanatul.ro
X-WR-CALDESC:Events for Filarmonica Banatul Timișoara
REFRESH-INTERVAL;VALUE=DURATION:PT1H
X-Robots-Tag:noindex
X-PUBLISHED-TTL:PT1H
BEGIN:VTIMEZONE
TZID:Europe/Bucharest
BEGIN:DAYLIGHT
TZOFFSETFROM:+0200
TZOFFSETTO:+0300
TZNAME:EEST
DTSTART:20230326T010000
END:DAYLIGHT
BEGIN:STANDARD
TZOFFSETFROM:+0300
TZOFFSETTO:+0200
TZNAME:EET
DTSTART:20231029T010000
END:STANDARD
END:VTIMEZONE
BEGIN:VEVENT
DTSTART;TZID=Europe/Bucharest:20231125T180000
DTEND;TZID=Europe/Bucharest:20231125T190000
DTSTAMP:20260419T151438
CREATED:20231109T085522Z
LAST-MODIFIED:20231109T085522Z
UID:4230-1700935200-1700938800@dev.filarmonicabanatul.ro
SUMMARY:Dialog cu publicul al poetului RADU VANCU | Bufnițele și Luminile Timișoarei
DESCRIPTION:Unul din cei mai apreciați poeți români\, RADU VANCU\, va reveni la Timișoara pentru a introduce publicul în Iluminism. În cadrul acestui eveniment\, Radu Vancu va discuta despre valențele acestui curent de gândire\, dar și despre influența acestuia asupra Timișoarei.\n\nDin perspectivă literară\, Radu Vancu va discuta despre Secolul Luminilor în întreaga regiune și cum a influențat creatorii literari din generațiile care au urmat.\n\nEvenimentul face parte din festivalul Musica Ricercata Op. 6 – Lux Timisiensis.\nÎntâlnirea cu publicul are loc la Librăria „La Două Bufnițe”\, sâmbătă\, 25 noiembrie 2023\, de la ora 18:00.\n\nINTRAREA ESTE LIBERĂ!
URL:https://dev.filarmonicabanatul.ro/evenimente/dialog-cu-publicul-al-poetului-radu-vancu-bufnitele-si-luminile-timisoarei/
LOCATION:Librăria La Două Bufnițe\, Piața Unirii nr. 11\, Timișoara\, Timiș\, România
ATTACH;FMTTYPE=image/png:https://dev.filarmonicabanatul.ro/wp-content/uploads/2023/11/25-nov-entertix-1200x6281-1.png
ORGANIZER;CN="Filarmonica Banatul Timi%C8%99oara":MAILTO:office@filarmonicabanatul.ro
END:VEVENT
END:VCALENDAR