BEGIN:VCALENDAR
VERSION:2.0
PRODID:-//Filarmonica Banatul Timișoara - ECPv6.5.0//NONSGML v1.0//EN
CALSCALE:GREGORIAN
METHOD:PUBLISH
X-WR-CALNAME:Filarmonica Banatul Timișoara
X-ORIGINAL-URL:https://dev.filarmonicabanatul.ro
X-WR-CALDESC:Events for Filarmonica Banatul Timișoara
REFRESH-INTERVAL;VALUE=DURATION:PT1H
X-Robots-Tag:noindex
X-PUBLISHED-TTL:PT1H
BEGIN:VTIMEZONE
TZID:Europe/Bucharest
BEGIN:DAYLIGHT
TZOFFSETFROM:+0200
TZOFFSETTO:+0300
TZNAME:EEST
DTSTART:20230326T010000
END:DAYLIGHT
BEGIN:STANDARD
TZOFFSETFROM:+0300
TZOFFSETTO:+0200
TZNAME:EET
DTSTART:20231029T010000
END:STANDARD
END:VTIMEZONE
BEGIN:VEVENT
DTSTART;TZID=Europe/Bucharest:20230825T200000
DTEND;TZID=Europe/Bucharest:20230825T213000
DTSTAMP:20260419T162325
CREATED:20230814T141755Z
LAST-MODIFIED:20230814T141755Z
UID:3690-1692993600-1692999000@dev.filarmonicabanatul.ro
SUMMARY:Concert Eufonia Festival | MUSIC AND WINE
DESCRIPTION:Cum lumea științifică a descoperit că ceea ce auzim poate înfluența percepția gustului unui vin\, vă propunem să facem împreună acest experiment\, iar Music and Wine este ocazia perfectă! \nVă dăm întâlnire vineri\, 25 august 2023\, de la ora 20:00\, la Crama Villa Veche din Șiria\, într-un ambient extrem de primitor și reconfortant\, numai bun de ascultat muzică clasică și de băut un pahar cu vin rafinat. Vom asculta lucrări de D. Șostakovici\, S. Prokofiev\, J. Francaix\, W. A. Mozart\, R. Gliere\, S. Barber\, în interpretarea asrtiștilor: SUYEON KANG\, ANTON SPRONK\, SIMONA SINDREȘTEAN\, VLAD POPESCU\, MATHIS ROCHAT\, PABLO  BARRAGÁN\, JEAN SÉLIM ABDELMOULA\, YU-HUI CHUANG\, ANDRÉ CEBRIÁN\, ANGELICA POSTU\, MICHAELA ŠPAČKOVÁ.
URL:https://dev.filarmonicabanatul.ro/evenimente/concert-eufonia-festival-music-and-wine/
LOCATION:Crama Villa Veche\, Str. Spiru Haret Nr. 68\, Șiria\, Arad\, 317340\, România
ATTACH;FMTTYPE=image/png:https://dev.filarmonicabanatul.ro/wp-content/uploads/2023/08/25-aug-ENTERTIX-1200-X-628.png
ORGANIZER;CN="Filarmonica Banatul Timi%C8%99oara":MAILTO:office@filarmonicabanatul.ro
END:VEVENT
END:VCALENDAR