BEGIN:VCALENDAR
VERSION:2.0
PRODID:-//Filarmonica Banatul Timișoara - ECPv6.5.0//NONSGML v1.0//EN
CALSCALE:GREGORIAN
METHOD:PUBLISH
X-WR-CALNAME:Filarmonica Banatul Timișoara
X-ORIGINAL-URL:https://dev.filarmonicabanatul.ro
X-WR-CALDESC:Events for Filarmonica Banatul Timișoara
REFRESH-INTERVAL;VALUE=DURATION:PT1H
X-Robots-Tag:noindex
X-PUBLISHED-TTL:PT1H
BEGIN:VTIMEZONE
TZID:Europe/Bucharest
BEGIN:DAYLIGHT
TZOFFSETFROM:+0200
TZOFFSETTO:+0300
TZNAME:EEST
DTSTART:20240331T010000
END:DAYLIGHT
BEGIN:STANDARD
TZOFFSETFROM:+0300
TZOFFSETTO:+0200
TZNAME:EET
DTSTART:20241027T010000
END:STANDARD
END:VTIMEZONE
BEGIN:VEVENT
DTSTART;TZID=Europe/Bucharest:20240313T190000
DTEND;TZID=Europe/Bucharest:20240313T200000
DTSTAMP:20260422T185116
CREATED:20240221T084521Z
LAST-MODIFIED:20240222T085643Z
UID:4438-1710356400-1710360000@dev.filarmonicabanatul.ro
SUMMARY:Recital cameral | VIOLETA OȘORHEAN – vioară\, CRISTINA SÎNMĂRTINEAN – vioară\, ANDREI POPA – violă\, CSABA MAKSAY – violoncel\, TIBI VASILE BOC- clarinet
DESCRIPTION:VIOLETA OȘORHEAN\, concertmaestru al Filarmonicii Banatul Timișoara\, și violonista CRISTINA SÎNMĂRTINEAN\, violistul ANDREI POPA\, violoncelistul CSABA MAKSAY și clarinetistul TIBI VASILE BOC susțin miercuri\, 13 martie 2024\, un recital cameral\, la care vă invităm cu drag să luați parte. \nArtiștii vor interpreta lucrări de J. BRAHMS și G. MEYERBEER. \nEvenimentul are loc de la ora 19:00\, la Cinema „Timiș”.
URL:https://dev.filarmonicabanatul.ro/evenimente/recital-cameral-violeta-osorhean-vioara-cristina-sinmartinean-vioara-andrei-popa-viola-csaba-maksay-violoncel-tiberiu-boc-clarinet/
LOCATION:Cinema Timiș\, Piața Victoriei 7\, Timișoara
ATTACH;FMTTYPE=image/png:https://dev.filarmonicabanatul.ro/wp-content/uploads/2024/02/13-mar-ENTERTIX-1200-X-628-1.png
END:VEVENT
END:VCALENDAR