BEGIN:VCALENDAR
VERSION:2.0
PRODID:-//Filarmonica Banatul Timișoara - ECPv6.5.0//NONSGML v1.0//EN
CALSCALE:GREGORIAN
METHOD:PUBLISH
X-WR-CALNAME:Filarmonica Banatul Timișoara
X-ORIGINAL-URL:https://dev.filarmonicabanatul.ro
X-WR-CALDESC:Events for Filarmonica Banatul Timișoara
REFRESH-INTERVAL;VALUE=DURATION:PT1H
X-Robots-Tag:noindex
X-PUBLISHED-TTL:PT1H
BEGIN:VTIMEZONE
TZID:Europe/Bucharest
BEGIN:DAYLIGHT
TZOFFSETFROM:+0200
TZOFFSETTO:+0300
TZNAME:EEST
DTSTART:20240331T010000
END:DAYLIGHT
BEGIN:STANDARD
TZOFFSETFROM:+0300
TZOFFSETTO:+0200
TZNAME:EET
DTSTART:20241027T010000
END:STANDARD
END:VTIMEZONE
BEGIN:VEVENT
DTSTART;TZID=Europe/Bucharest:20240406T190000
DTEND;TZID=Europe/Bucharest:20240406T200000
DTSTAMP:20260422T160605
CREATED:20240403T070722Z
LAST-MODIFIED:20240403T082216Z
UID:4558-1712430000-1712433600@dev.filarmonicabanatul.ro
SUMMARY:riTM în Banat - Recital cameral Ansamblul Percutissimo | Solist și coordonator: DORU ROMAN
DESCRIPTION:Evenimentele din seria riTM în Banat continuă la Buziaș\, unde publicul este așteptat sâmbătă\, 6 aprilie 2024\, de la ora 19:00\, la Casa de Cultură\, pentru a se bucura de ritmurile antrenante aduse pe scenă de percuționistul Doru Roman și artiștii Ansamblului Percutissimo al Facultății de Muzică și Teatru. \nDin program: Music of the pieces of wood – R. Reich\, Mambo Africano – A. Gomez\, Zulu Welcome – S. Fink și Cântec Sârbesc – N. Zivkovici. \nEvenimentul face parte din turneul de promovare a Festivalului Internațional „Timișoara Muzicală”. \n  \n____ \nEN \nThe serie of events  riTM in Banat continues in Buziaș\, where the public is expected on Saturday\, April 6\, from 7:00 pm\, at the House of Culture\, to enjoy the exciting rhythms brought on stage by the percussionist Doru Roman and the artists of the Percutissimo Ensemble of the Faculty of Music and Theater. \n\nThe event is part of the promotion tour of the „Timișoara Muzicală” International Festival.
URL:https://dev.filarmonicabanatul.ro/evenimente/ritm-in-banat-recital-cameral-ansamblul-percutissimo-solist-si-coordonator-doru-roman-2/
LOCATION:Casa de Cultură Buziaș\, Strada Principală Nr. 8\, Buziaș\, Timiș\, 305100
ATTACH;FMTTYPE=image/png:https://dev.filarmonicabanatul.ro/wp-content/uploads/2024/04/06-apr-ENTERTIX-1200-X-628_riTM-in-Banat.png
ORGANIZER;CN="Filarmonica Banatul Timi%C8%99oara":MAILTO:office@filarmonicabanatul.ro
END:VEVENT
END:VCALENDAR