BEGIN:VCALENDAR
VERSION:2.0
PRODID:-//Filarmonica Banatul Timișoara - ECPv6.5.0//NONSGML v1.0//EN
CALSCALE:GREGORIAN
METHOD:PUBLISH
X-WR-CALNAME:Filarmonica Banatul Timișoara
X-ORIGINAL-URL:https://dev.filarmonicabanatul.ro
X-WR-CALDESC:Events for Filarmonica Banatul Timișoara
REFRESH-INTERVAL;VALUE=DURATION:PT1H
X-Robots-Tag:noindex
X-PUBLISHED-TTL:PT1H
BEGIN:VTIMEZONE
TZID:Europe/Bucharest
BEGIN:DAYLIGHT
TZOFFSETFROM:+0200
TZOFFSETTO:+0300
TZNAME:EEST
DTSTART:20220327T010000
END:DAYLIGHT
BEGIN:STANDARD
TZOFFSETFROM:+0300
TZOFFSETTO:+0200
TZNAME:EET
DTSTART:20221030T010000
END:STANDARD
END:VTIMEZONE
BEGIN:VEVENT
DTSTART;TZID=Europe/Bucharest:20220901T200000
DTEND;TZID=Europe/Bucharest:20220901T213000
DTSTAMP:20260421T135551
CREATED:20220818T124538Z
LAST-MODIFIED:20230814T124914Z
UID:2332-1662062400-1662067800@dev.filarmonicabanatul.ro
SUMMARY:Back To Bach - Eufonia Festival 2022
DESCRIPTION:Back to Bach deschide seria concertelor din cadrul secțiunii Baroque Academy – o premieră dedicată ediției aniversare a Eufonia Festival. Primul dintre ele va avea loc într-un cadru intim\, într-o seară de vară târzie\, la umbra castanului din curtea Casei Artelor\, loc în care muzica barocă va răsuna în interpretarea unor instrumențiști consacrați și a unor tineri muzicieni talentați\, sub coordonarea violonistului german Bernhard Forck. Arcușele baroce puse la dispoziție de către organizatori îi vor ajuta pe artiști să dea viață pieselor solistice și lucrărilor camerale. \nÎn program se vor regăsi compoziții de J.S. Bach\, J.H. Schmelzer\, G.P. Telemann\, H. Purcell ș.a.
URL:https://dev.filarmonicabanatul.ro/evenimente/back-to-back-eufonia-festival-2022/
LOCATION:Casa Artelor\, Strada Episcop Augustin Pacha 8\, Timișoara
ATTACH;FMTTYPE=image/jpeg:https://dev.filarmonicabanatul.ro/wp-content/uploads/2022/08/Artboard-42.jpg
ORGANIZER;CN="Filarmonica Banatul Timi%C8%99oara":MAILTO:office@filarmonicabanatul.ro
END:VEVENT
END:VCALENDAR