BEGIN:VCALENDAR
VERSION:2.0
PRODID:-//Filarmonica Banatul Timișoara - ECPv6.5.0//NONSGML v1.0//EN
CALSCALE:GREGORIAN
METHOD:PUBLISH
X-WR-CALNAME:Filarmonica Banatul Timișoara
X-ORIGINAL-URL:https://dev.filarmonicabanatul.ro
X-WR-CALDESC:Events for Filarmonica Banatul Timișoara
REFRESH-INTERVAL;VALUE=DURATION:PT1H
X-Robots-Tag:noindex
X-PUBLISHED-TTL:PT1H
BEGIN:VTIMEZONE
TZID:Europe/Bucharest
BEGIN:DAYLIGHT
TZOFFSETFROM:+0200
TZOFFSETTO:+0300
TZNAME:EEST
DTSTART:20230326T010000
END:DAYLIGHT
BEGIN:STANDARD
TZOFFSETFROM:+0300
TZOFFSETTO:+0200
TZNAME:EET
DTSTART:20231029T010000
END:STANDARD
END:VTIMEZONE
BEGIN:VEVENT
DTSTART;TZID=Europe/Bucharest:20231118T210000
DTEND;TZID=Europe/Bucharest:20231118T223000
DTSTAMP:20260419T155050
CREATED:20231030T125635Z
LAST-MODIFIED:20231103T110109Z
UID:4155-1700341200-1700346600@dev.filarmonicabanatul.ro
SUMMARY:RECITAL NOCTURN Mysterium I | Soliști: ELICIA SILVERSTEIN – vioară\, MARCO MENCOBONI – orgă
DESCRIPTION:Violonista ELICIA SILVERSTEIN este câștigătoare\, în 2020\, a premiului BBC Music Magazine pentru cel mai bun debut\, recunoscută pe scena internațională pentru interpretările sale nuanțate\, îndrăznețe și introspective ale repertoriului din secolul al XVII-lea până în secolul XXI\, susține sâmbătă\, 18 noiembrie 2023\, de la ora 21:00\, la Biserica Sfânta Ecaterina\, un recital a cărui temă centrală o reprezintă viața lui Hristos. \nAlături de Elicia va interpreta organistul MARCO MENCOBONI\, artist care a dedicat mulți ani redescoperirii și interpretării repertoriului muzical antic al barocului și al Renașterii și a cărui dăruire a readus la viață o serie de bijuterii ale unei muzici uitate. \nÎn program: Heinrich Biber – Integrala sonatelor Rozariului (1) \nDe la ora 20:30\, sunteți invitați la o discuție pre-concert cu ELICIA SILVERSTEIN.
URL:https://dev.filarmonicabanatul.ro/evenimente/recital-nocturn-mysterium-i-solisti-elicia-silverstein-vioara-marco-mencoboni-orga/
LOCATION:Biserica Sfânta Ecaterina Timișoara\, Strada Bolyai János 4\, Timișoara\, Timiș\, România
ATTACH;FMTTYPE=image/png:https://dev.filarmonicabanatul.ro/wp-content/uploads/2023/10/18-nov-entertix-1200x628-1.png
ORGANIZER;CN="Filarmonica Banatul Timi%C8%99oara":MAILTO:office@filarmonicabanatul.ro
END:VEVENT
END:VCALENDAR