BEGIN:VCALENDAR
VERSION:2.0
PRODID:-//Filarmonica Banatul Timișoara - ECPv6.5.0//NONSGML v1.0//EN
CALSCALE:GREGORIAN
METHOD:PUBLISH
X-WR-CALNAME:Filarmonica Banatul Timișoara
X-ORIGINAL-URL:https://dev.filarmonicabanatul.ro
X-WR-CALDESC:Events for Filarmonica Banatul Timișoara
REFRESH-INTERVAL;VALUE=DURATION:PT1H
X-Robots-Tag:noindex
X-PUBLISHED-TTL:PT1H
BEGIN:VTIMEZONE
TZID:Europe/Bucharest
BEGIN:DAYLIGHT
TZOFFSETFROM:+0200
TZOFFSETTO:+0300
TZNAME:EEST
DTSTART:20220327T010000
END:DAYLIGHT
BEGIN:STANDARD
TZOFFSETFROM:+0300
TZOFFSETTO:+0200
TZNAME:EET
DTSTART:20221030T010000
END:STANDARD
END:VTIMEZONE
BEGIN:VEVENT
DTSTART;TZID=Europe/Bucharest:20220521T190000
DTEND;TZID=Europe/Bucharest:20220521T203000
DTSTAMP:20260419T181335
CREATED:20220503T102212Z
LAST-MODIFIED:20220503T102703Z
UID:2038-1653159600-1653165000@dev.filarmonicabanatul.ro
SUMMARY:Recital vocal de muzică sacră | Festivalul Internațional Timișoara Muzicală
DESCRIPTION: Soprana Sorina Munteanu\, baritonul Cristian Ardelean și organista Silviana Cîrdu vor susține sâmbătă\, 21 mai\, ora 19\, un recital vocal de muzică sacră\, la Biserica Evanghelică Lutherană.\n\nÎn program vor fi următoarele lucrări:\nN. Bretan – Tatăl nostru;\nG. Caccini / V. Vavilov – Ave Maria;\nA. Dvořák – Biblische Lieder\, Op. 99\, Nr.10\nJ. S. Bach – Cantata 106 -Alto- In deine Hände;\nW. F. Speer – Die Könige in Israel – Umsonst will ich nicht tragen Jehovas Herrscher;\nG. Fauré – Requiem – Pie Jesu;\nW. F. Speer – Die Könige in Israel – Weib\, spring das kühne Zauberwort;\nF. Mendelssohn Bartholdy – Elias- Höre Israel;\nC. Franck – Panis angelicus;\nL. Delibes – Agnus Dei.
URL:https://dev.filarmonicabanatul.ro/evenimente/recital-vocal-de-muzica-sacra-festivalul-international-timisoara-muzicala/
LOCATION:Biserica Evanghelică Lutherană\, Ionel C. Bratianu\, nr. 3\, Timișoara\, Timiș\, România
ATTACH;FMTTYPE=image/jpeg:https://dev.filarmonicabanatul.ro/wp-content/uploads/2022/05/Mai_covers_21.jpg
ORGANIZER;CN="Filarmonica Banatul Timi%C8%99oara":MAILTO:office@filarmonicabanatul.ro
END:VEVENT
BEGIN:VEVENT
DTSTART;TZID=Europe/Bucharest:20220331T190000
DTEND;TZID=Europe/Bucharest:20220331T203000
DTSTAMP:20260419T181335
CREATED:20220308T111941Z
LAST-MODIFIED:20220311T142315Z
UID:1884-1648753200-1648758600@dev.filarmonicabanatul.ro
SUMMARY:Recital cameral de muzică barocă ⚬ Andrei Radu\, Dorel Iuga\, Istvan Csata & Gianluca Cagnani
DESCRIPTION: Întâlnirile muzicale din luna martie se încheie joi\, 31 martie\, ora 19\, la Biserica Evanghelica Lutherană cu un recital cameral de muzică barocă susținut de Andrei Radu (vioară)\, Dorel Iuga (flaut)\, Istvan Csata (viola da gamba) și de Gianluca Cagnani (clavecin și conducerea muzicală).\n\nÎn program:\nBACH BACK IN TOWN – Medalion J. S. BACH\nTrio Sonata în Sol major BWV 1039\nTrio Sonata în Sol major BWV 1038\nTrio Sonata în Do major BWV 529
URL:https://dev.filarmonicabanatul.ro/evenimente/1884/
LOCATION:Biserica Evanghelică Lutherană\, Ionel C. Bratianu\, nr. 3\, Timișoara\, Timiș\, România
ATTACH;FMTTYPE=image/png:https://dev.filarmonicabanatul.ro/wp-content/uploads/2022/03/Martie_31_cover.png
END:VEVENT
END:VCALENDAR