BEGIN:VCALENDAR
VERSION:2.0
PRODID:-//Filarmonica Banatul Timișoara - ECPv6.5.0//NONSGML v1.0//EN
CALSCALE:GREGORIAN
METHOD:PUBLISH
X-WR-CALNAME:Filarmonica Banatul Timișoara
X-ORIGINAL-URL:https://dev.filarmonicabanatul.ro
X-WR-CALDESC:Events for Filarmonica Banatul Timișoara
REFRESH-INTERVAL;VALUE=DURATION:PT1H
X-Robots-Tag:noindex
X-PUBLISHED-TTL:PT1H
BEGIN:VTIMEZONE
TZID:Europe/Bucharest
BEGIN:DAYLIGHT
TZOFFSETFROM:+0200
TZOFFSETTO:+0300
TZNAME:EEST
DTSTART:20220327T010000
END:DAYLIGHT
BEGIN:STANDARD
TZOFFSETFROM:+0300
TZOFFSETTO:+0200
TZNAME:EET
DTSTART:20221030T010000
END:STANDARD
END:VTIMEZONE
BEGIN:VEVENT
DTSTART;TZID=Europe/Bucharest:20220303T190000
DTEND;TZID=Europe/Bucharest:20220303T203000
DTSTAMP:20260421T120840
CREATED:20220228T095015Z
LAST-MODIFIED:20220228T095015Z
UID:1769-1646334000-1646339400@dev.filarmonicabanatul.ro
SUMMARY:Recital cameral | D'arta Piano Trio
DESCRIPTION: Violonista Bianca Elena Cârcu împreună cu violoncelista Andreea Petrila și pianista Csilla Bordos vor susține un recital cameral joi\, 3 martie\, de la ora 19.\nVeți putea audia:\nA. Arensky – Trio pentru vioară\, violoncel și pian nr. 1\, în re minor\, op. 32;\nD. Șostakovici – Trio pentru vioară\, violoncel și pian nr. 1\, în do minor\, op. 8.
URL:https://dev.filarmonicabanatul.ro/evenimente/recital-cameral-darta-piano-trio/
LOCATION:Filarmonica Banatul Timișoara\, Filarmonica Banatul Adresă\, Timișoara\, Timiș\, 300022\, Romania
ATTACH;FMTTYPE=image/png:https://dev.filarmonicabanatul.ro/wp-content/uploads/2022/02/Martie_03_cover.png
ORGANIZER;CN="Filarmonica Banatul Timi%C8%99oara":MAILTO:office@filarmonicabanatul.ro
END:VEVENT
BEGIN:VEVENT
DTSTART;TZID=Europe/Bucharest:20220226T110000
DTEND;TZID=Europe/Bucharest:20220226T123000
DTSTAMP:20260421T120840
CREATED:20220214T085301Z
LAST-MODIFIED:20220214T110706Z
UID:1410-1645873200-1645878600@dev.filarmonicabanatul.ro
SUMMARY:Concert educativ | Destinații muzicale
DESCRIPTION: Sâmbătă\, 26 februarie\, de la ora 11\, cei mici  sunt așteptați la un concert educativ susținut de percuționistul Doru Roman. În cadrul concertului copiii vor învăța cum se poate face muzică cu instrumentele de percuție. \n\n Nu este nevoie de înscriere în prealabil\, însă pentru participare este necesară prezența unui însoțitor (părinte/profesor). \n\n Vârsta recomandată: 7-12 ani.
URL:https://dev.filarmonicabanatul.ro/evenimente/concert-educativ-destinatii-muzicale/
LOCATION:Timiș
ATTACH;FMTTYPE=image/png:https://dev.filarmonicabanatul.ro/wp-content/uploads/2022/02/Februarie_26_cover.png
ORGANIZER;CN="Filarmonica Banatul Timi%C8%99oara":MAILTO:office@filarmonicabanatul.ro
END:VEVENT
BEGIN:VEVENT
DTSTART;TZID=Europe/Bucharest:20220225T190000
DTEND;TZID=Europe/Bucharest:20220225T203000
DTSTAMP:20260421T120840
CREATED:20220202T105947Z
LAST-MODIFIED:20220202T105957Z
UID:1324-1645815600-1645821000@dev.filarmonicabanatul.ro
SUMMARY:Concert simfonic
DESCRIPTION:Vineri\, 25 februarie\, de la ora 19\, avem plăcerea de a vă invita la concertul simfonic susținut de orchestra Filarmonicii Banatul sub bagheta dirijorului Radu Popa\, alături de pianista Adela Liculescu.\n\nVeți putea audia:\nA. Arensky – Variațiuni pe teme de Ceaikovsky pentru orchestră de coarde\, op. 35a;\nP. I. Ceaikovski – Concertul pentru pian și orchestră nr. 1\, op. 23;\nP. I. Ceaikovski – Capriciul italian.\n Accesul în sala de concerte este reglementat la până 30% din capacitatea spațiului pentru cei care prezintă certificatul verde și asigură purtarea măștii de protecție în mod corespunzător.
URL:https://dev.filarmonicabanatul.ro/evenimente/concert-simfonic-4/
LOCATION:Filarmonica Banatul Timișoara\, Filarmonica Banatul Adresă\, Timișoara\, Timiș\, 300022\, Romania
ATTACH;FMTTYPE=image/png:https://dev.filarmonicabanatul.ro/wp-content/uploads/2022/02/Februarie_25_cover.png
ORGANIZER;CN="Filarmonica Banatul Timi%C8%99oara":MAILTO:office@filarmonicabanatul.ro
END:VEVENT
BEGIN:VEVENT
DTSTART;TZID=Europe/Bucharest:20220218T190000
DTEND;TZID=Europe/Bucharest:20220218T203000
DTSTAMP:20260421T120840
CREATED:20220202T105451Z
LAST-MODIFIED:20220202T105614Z
UID:1320-1645210800-1645216200@dev.filarmonicabanatul.ro
SUMMARY:Concert simfonic
DESCRIPTION:Vineri\, 18 februarie\, de la ora 19\, vă așteptăm la concertul simfonic susținut de orchestra Filarmonicii Banatul\, sub bagheta dirijorului Mihnea Ignat\, alături de Violeta Oșorhean\, Florin Ionescu-Galați și Cătălina Trincă la vioară.\n\nÎn program:\nA. Vivaldi – Concertul pentru două viori și orchestră în la minor\, RV. 522;\nJ. S. Bach – Concertul pentru două viori și orchestră în re minor\, BWV 1043\nN. A. Rimski-Korsakov – Șeherazada\, vioară solo: Cătălina Trincă.\n\n Accesul în sala de concerte este reglementat la până 30% din capacitatea spațiului pentru cei care prezintă certificatul verde și asigură purtarea măștii de protecție în mod corespunzător.
URL:https://dev.filarmonicabanatul.ro/evenimente/concert-simfonic-3/
LOCATION:Filarmonica Banatul Timișoara\, Filarmonica Banatul Adresă\, Timișoara\, Timiș\, 300022\, Romania
ATTACH;FMTTYPE=image/png:https://dev.filarmonicabanatul.ro/wp-content/uploads/2022/02/Februarie_18_cover_edit.png
ORGANIZER;CN="Filarmonica Banatul Timi%C8%99oara":MAILTO:office@filarmonicabanatul.ro
END:VEVENT
BEGIN:VEVENT
DTSTART;TZID=Europe/Bucharest:20220217T190000
DTEND;TZID=Europe/Bucharest:20220217T203000
DTSTAMP:20260421T120840
CREATED:20220127T102421Z
LAST-MODIFIED:20220214T105429Z
UID:1145-1645124400-1645129800@dev.filarmonicabanatul.ro
SUMMARY:Concert coral
DESCRIPTION:Joi\, 17 februarie\, de la ora 19\, se va desfășura concertul coral susținut de corul Ion Românu al Filarmonicii Banatul pregătit de maestrul Iosif Todea\, alături de tenorul Ioan Moțiu\, sub bagheta dirijorului Cezar Verlan.\n\nConcertul va fi acompaniat la pian de Regina Csermak\, la chitară de Johnny Kui\, la percuție de Torino Tudorache\, Adrian Cosma\, Ferencz Szekeres\, iar la contrabas de Victor Stan.\n\nÎn program vor fi următoarele lucrări:\nA. Ramirez – Misa Criolla;\nS. Păutza – Ebony Mass;\nS. Păutza – (aranjamente) My Lord\, what a morning; Jericho; O\, rise and shine; Glorious Kingdom.
URL:https://dev.filarmonicabanatul.ro/evenimente/concert-coral/
LOCATION:Filarmonica Banatul Timișoara\, Filarmonica Banatul Adresă\, Timișoara\, Timiș\, 300022\, Romania
ATTACH;FMTTYPE=image/png:https://dev.filarmonicabanatul.ro/wp-content/uploads/2022/01/Februarie_17_cover_edit_5.png
ORGANIZER;CN="Filarmonica Banatul Timi%C8%99oara":MAILTO:office@filarmonicabanatul.ro
END:VEVENT
BEGIN:VEVENT
DTSTART;TZID=Europe/Bucharest:20220210T190000
DTEND;TZID=Europe/Bucharest:20220210T203000
DTSTAMP:20260421T120840
CREATED:20220127T101658Z
LAST-MODIFIED:20220130T133235Z
UID:1141-1644519600-1644525000@dev.filarmonicabanatul.ro
SUMMARY:Recital cameral
DESCRIPTION:Violonista Diana Moș împreună cu pianista Cristina Popescu-Stănești vor susține un recital cameral joi\, 10 februarie\, de la ora 19.\nVeți putea audia:\nMedalion Serghei PROKOFIEV\nSonata nr. 2 pentru vioară și pian\, op.94;\n5 Melodii pentru vioară și pian\, op.35 (bis);\nSonata nr. 1 pentru vioară și pian\, op. 80.
URL:https://dev.filarmonicabanatul.ro/evenimente/recital-cameral-2/
LOCATION:Filarmonica Banatul Timișoara\, Filarmonica Banatul Adresă\, Timișoara\, Timiș\, 300022\, Romania
ATTACH;FMTTYPE=image/png:https://dev.filarmonicabanatul.ro/wp-content/uploads/2022/01/Februarie_10_cover.png
ORGANIZER;CN="Filarmonica Banatul Timi%C8%99oara":MAILTO:office@filarmonicabanatul.ro
END:VEVENT
BEGIN:VEVENT
DTSTART;TZID=Europe/Bucharest:20220204T190000
DTEND;TZID=Europe/Bucharest:20220204T203000
DTSTAMP:20260421T120840
CREATED:20220127T101221Z
LAST-MODIFIED:20220127T102514Z
UID:1137-1644001200-1644006600@dev.filarmonicabanatul.ro
SUMMARY:Concert simfonic
DESCRIPTION:Vineri\, 4 februarie\, de la ora 19\, vă așteptăm la concertul simfonic susținut de orchestra Filarmonicii Banatul sub bagheta dirijorului maghiar Robert Farkas\, alături de pianistul Dragoș Mihăilescu.\nÎn program vor fi următoarele lucrări:\nF. Liszt – Poemul simfonic nr. 5\, Prometeu\, S.99;\nR. Schumann –  Concertul pentru pian şi orchestră în la minor\, op. 54;\nJ. Brahms – Simfonia nr. 4 în mi minor\, op. 98.
URL:https://dev.filarmonicabanatul.ro/evenimente/concert-simfonic-februarie/
LOCATION:Filarmonica Banatul Timișoara\, Filarmonica Banatul Adresă\, Timișoara\, Timiș\, 300022\, Romania
ATTACH;FMTTYPE=image/png:https://dev.filarmonicabanatul.ro/wp-content/uploads/2022/01/Februarie_4_cover.png
ORGANIZER;CN="Filarmonica Banatul Timi%C8%99oara":MAILTO:office@filarmonicabanatul.ro
END:VEVENT
BEGIN:VEVENT
DTSTART;TZID=Europe/Bucharest:20220128T190000
DTEND;TZID=Europe/Bucharest:20220128T210000
DTSTAMP:20260421T120840
CREATED:20220102T185200Z
LAST-MODIFIED:20220126T101400Z
UID:316-1643396400-1643403600@dev.filarmonicabanatul.ro
SUMMARY:Concert Simfonic
DESCRIPTION:Încheiem luna ianuarie printr-un concert simfonic susținut de orchestra Filarmonicii Banatul\, condusă de dirijorul Cristian Lupeș\, alături de percuționistul Doru Roman\, vineri\, 28 ianuarie\, de la ora 19. \nÎn program vor fi următoarele lucrări: \n\nD. Dediu – Elegia Minacciosa pentru orchestră;\nJolivet – Concertul pentru percuție şi orchestră\nCopland – Appalachian Spring
URL:https://dev.filarmonicabanatul.ro/evenimente/concert-simfonic-2/
LOCATION:Filarmonica Banatul Timișoara\, Filarmonica Banatul Adresă\, Timișoara\, Timiș\, 300022\, Romania
ATTACH;FMTTYPE=image/png:https://dev.filarmonicabanatul.ro/wp-content/uploads/2022/01/Ianuarie_28_cover_V2.png
ORGANIZER;CN="Filarmonica Banatul Timi%C8%99oara":MAILTO:office@filarmonicabanatul.ro
END:VEVENT
BEGIN:VEVENT
DTSTART;TZID=Europe/Bucharest:20220121T190000
DTEND;TZID=Europe/Bucharest:20220121T210000
DTSTAMP:20260421T120840
CREATED:20220102T185053Z
LAST-MODIFIED:20220102T185053Z
UID:313-1642791600-1642798800@dev.filarmonicabanatul.ro
SUMMARY:Concert Simfonic
DESCRIPTION:Vineri\, 21 ianuarie\, de la ora 19\, avem bucuria de a vă invita la concertul simfonic susținut de orchestra Filarmonicii Banatul\, sub bagheta dirijorului austriac Pfeiffer Friedrich\, alături de cornistul Samuel Seidenberg\, din Germania. \nVor fi interpretate următoarele lucrări: \nR. Strauss – Concertul pentru corn și orchestră nr. 2\, op. \nP. I. Ceaikovski – Simfonia nr. 5 în mi minor\, op. 64
URL:https://dev.filarmonicabanatul.ro/evenimente/concert-simfonic/
LOCATION:Filarmonica Banatul Timișoara\, Filarmonica Banatul Adresă\, Timișoara\, Timiș\, 300022\, Romania
ATTACH;FMTTYPE=image/png:https://dev.filarmonicabanatul.ro/wp-content/uploads/2022/01/Ianuarie_21_cover.png
ORGANIZER;CN="Filarmonica Banatul Timi%C8%99oara":MAILTO:office@filarmonicabanatul.ro
END:VEVENT
BEGIN:VEVENT
DTSTART;TZID=Europe/Bucharest:20220120T190000
DTEND;TZID=Europe/Bucharest:20220120T210000
DTSTAMP:20260421T120840
CREATED:20220102T184918Z
LAST-MODIFIED:20220102T185248Z
UID:310-1642705200-1642712400@dev.filarmonicabanatul.ro
SUMMARY:Recital Cameral
DESCRIPTION:Joi\, 20 ianuarie\, de la ora 19\, vă invităm la recitalul cameral susținut de Ana David (vioară)\, Horațiu Bălan (vioară) și Andreea Olariu (pian)\, artiști ai Filarmonicii Banatul\, care vor interpreta următoarele lucrări: \nDarius Milhaud – Sonata pentru două viori și pian \nMaurice Moszkowski – Suita pentru două viori și pian\, Op. 71 \nBohuslav Martinu –  Sonata pentru două viori și pian \nD. Șostakovici  – Cinci piese pentru două viori și pian
URL:https://dev.filarmonicabanatul.ro/evenimente/recital-cameral/
LOCATION:Filarmonica Banatul Timișoara\, Filarmonica Banatul Adresă\, Timișoara\, Timiș\, 300022\, Romania
ATTACH;FMTTYPE=image/png:https://dev.filarmonicabanatul.ro/wp-content/uploads/2022/01/Ianuarie_20_cover.png
ORGANIZER;CN="Filarmonica Banatul Timi%C8%99oara":MAILTO:office@filarmonicabanatul.ro
END:VEVENT
BEGIN:VEVENT
DTSTART;TZID=Europe/Bucharest:20220115T190000
DTEND;TZID=Europe/Bucharest:20220115T210000
DTSTAMP:20260421T120840
CREATED:20220109T212530Z
LAST-MODIFIED:20220109T212530Z
UID:842-1642273200-1642280400@dev.filarmonicabanatul.ro
SUMMARY:Concert Extraordinar de Ziua Culturii Naționale
DESCRIPTION:Sâmbătă\, 15 ianuarie 2022\, de la ora 19\, vă invităm la un concert extraordinar susținut de Orchestra Facultății de Muzică și Teatru din cadrul Universității de Vest din Timișoara\, eveniment dedicat Zilei Culturii Naționale.\nNe bucurăm de prezența în postură solistică a renumitului violonist Alexandru Tomescu\, conferențiar universitar la catedra de vioară a FMT\, și de conducerea muzicală a lectorului universitar Sebastian Felea.
URL:https://dev.filarmonicabanatul.ro/evenimente/concert-extraordinar-de-ziua-culturii-nationale/
LOCATION:Filarmonica Banatul Timișoara\, Filarmonica Banatul Adresă\, Timișoara\, Timiș\, 300022\, Romania
ATTACH;FMTTYPE=image/png:https://dev.filarmonicabanatul.ro/wp-content/uploads/2022/01/Ianuarie_15_cover.png
ORGANIZER;CN="Filarmonica Banatul Timi%C8%99oara":MAILTO:office@filarmonicabanatul.ro
END:VEVENT
BEGIN:VEVENT
DTSTART;TZID=Europe/Bucharest:20220114T190000
DTEND;TZID=Europe/Bucharest:20220114T210000
DTSTAMP:20260421T120840
CREATED:20220102T182948Z
LAST-MODIFIED:20220106T122848Z
UID:297-1642186800-1642194000@dev.filarmonicabanatul.ro
SUMMARY:Concert Coral - Ziua Culturii Naționale
DESCRIPTION:Sala Capitol \nCu ocazia Zilei Naționale a Culturii Filarmonica Banatul Timișoara are plăcerea de a vă invita\, vineri\, 14 ianuarie\, ora 19\, la concertul coral susținut de Corul Ion Românu al Filarmonicii Banatul\, sub bagheta dirijorului Iosif Todea. Soliștii vor fi soprana Alina Todea\, soprana Maria Onița\, baritonul Cristian Ardelean\, tenorul Emanuelle Nori\, basul Lucian Onița\, fiind acompaniați la pian de Regina Csermak. \nÎn program vor fi următoarele lucrări: \nPaul Constantinescu – Stelele-n cer \nV. Popovici – Atât de fragedă \nV. Popovici – Sara pe deal \nV. Popovici – Când amintirile \nI. D. Chirescu – Rugăciune \nAurel Eliade – Codrule\, codruţule \nTudor Flondor – Serenada \nL. Profeta – La Steaua \nIancu Filip – De ce nu-mi vii \nV. Spătărelu – Floare albastră \nV. Popovici – Pe aceeaşi ulicioară \nPaul Constantinescu – La mijloc de codru des \nG. Şorban – României
URL:https://dev.filarmonicabanatul.ro/evenimente/297/
LOCATION:Filarmonica Banatul Timișoara\, Filarmonica Banatul Adresă\, Timișoara\, Timiș\, 300022\, Romania
ATTACH;FMTTYPE=image/png:https://dev.filarmonicabanatul.ro/wp-content/uploads/2022/01/Ianuarie_14_cover.png
ORGANIZER;CN="Filarmonica Banatul Timi%C8%99oara":MAILTO:office@filarmonicabanatul.ro
END:VEVENT
BEGIN:VEVENT
DTSTART;TZID=Europe/Bucharest:20220113T190000
DTEND;TZID=Europe/Bucharest:20220113T210000
DTSTAMP:20260421T120840
CREATED:20220102T182847Z
LAST-MODIFIED:20220102T220054Z
UID:293-1642100400-1642107600@dev.filarmonicabanatul.ro
SUMMARY:Concert Cameral
DESCRIPTION:Sala Capitol \nJoi\, 13 ianuarie\, de la ora 19\, vă așteptăm la Sala Capitol la concertul cameral susținut de 𝗮𝗻𝘀𝗮𝗺𝗯𝗹𝘂𝗹 𝗱𝗲 𝗹𝗲𝗺𝗻𝗲 𝗮𝗹 𝗙𝗶𝗹𝗮𝗿𝗺𝗼𝗻𝗶𝗰𝗶𝗶 𝗕𝗮𝗻𝗮𝘁𝘂𝗹\, sub bagheta dirijorului Cristian Spătaru. \nÎn program vor fi următoarele lucrări: \n\nA. Mozart – Serenada nr. 12 în do minor pentru suflători\, K. 388;\n\nRichard Strauss – Serenada pentru lemne op. 7; \nAntonín L. Dvořák – Serenada pentru orchestra de suflători\, Op. 44
URL:https://dev.filarmonicabanatul.ro/evenimente/concert-cameral/
LOCATION:Filarmonica Banatul Timișoara\, Filarmonica Banatul Adresă\, Timișoara\, Timiș\, 300022\, Romania
ATTACH;FMTTYPE=image/png:https://dev.filarmonicabanatul.ro/wp-content/uploads/2022/01/Ianuarie_13_cover_V2-03.png
ORGANIZER;CN="Filarmonica Banatul Timi%C8%99oara":MAILTO:office@filarmonicabanatul.ro
END:VEVENT
BEGIN:VEVENT
DTSTART;TZID=Europe/Bucharest:20220111T190000
DTEND;TZID=Europe/Bucharest:20220111T210000
DTSTAMP:20260421T120840
CREATED:20220102T182623Z
LAST-MODIFIED:20220106T133957Z
UID:290-1641927600-1641934800@dev.filarmonicabanatul.ro
SUMMARY:Moștenitorii României Muzicale
DESCRIPTION:Sala Capitol \nTinerii și excepționalii muzicieni\, laureați ai bursei „Moștenitorii României muzicale” – edițiile 2020 și 2021\, pot fi ascultați și la Timișoara\, în cadrul recitalului-eveniment de marți\, 11 ianuarie\, ora 19. \nPianistul Cadmiel Boțac și violoncelistul Cornelius Zirbo vor interpreta două lucrări-reper ale repertoriului romantic\, totodată\, printre cele mai dificile tehnic: Sonata în si minor pentru pian de Franz Liszt și Sonata op. 19 în sol minor pentru violoncel și pian de Serghei Rahmaninov.
URL:https://dev.filarmonicabanatul.ro/evenimente/290/
LOCATION:Filarmonica Banatul Timișoara\, Filarmonica Banatul Adresă\, Timișoara\, Timiș\, 300022\, Romania
ATTACH;FMTTYPE=image/png:https://dev.filarmonicabanatul.ro/wp-content/uploads/2022/01/11-ian.png
ORGANIZER;CN="Filarmonica Banatul Timi%C8%99oara":MAILTO:office@filarmonicabanatul.ro
END:VEVENT
BEGIN:VEVENT
DTSTART;TZID=Europe/Bucharest:20220107T190000
DTEND;TZID=Europe/Bucharest:20220107T210000
DTSTAMP:20260421T120840
CREATED:20220102T181735Z
LAST-MODIFIED:20220102T182150Z
UID:286-1641582000-1641589200@dev.filarmonicabanatul.ro
SUMMARY:Concert Simfonic
DESCRIPTION:Deschidem anul muzical 2022 vineri\, 7 ianuarie\, de la ora 19\, printr-un concert simfonic susținut de orchestra Filarmonicii „Banatul”\, sub bagheta dirijorului Radu Popa\, alături de pianista Sînziana Mircea. \nÎn program vor fi următoarele lucrări: \n\nȘostakovici – Concertul pentru pian și orchestră nr. 2 în fa major\, op. 102;\nvan Beethoven – Simfonia nr. 4 în si bemol major\, op. 60.\n\nSala Capitol
URL:https://dev.filarmonicabanatul.ro/evenimente/286/
LOCATION:Filarmonica Banatul Timișoara\, Filarmonica Banatul Adresă\, Timișoara\, Timiș\, 300022\, Romania
ATTACH;FMTTYPE=image/png:https://dev.filarmonicabanatul.ro/wp-content/uploads/2022/01/Ianuarie_07_cover.png
ORGANIZER;CN="Filarmonica Banatul Timi%C8%99oara":MAILTO:office@filarmonicabanatul.ro
END:VEVENT
END:VCALENDAR